BEGIN:VCALENDAR
VERSION:2.0
PRODID:-//kch-aktiv.de - ECPv6.15.20//NONSGML v1.0//EN
CALSCALE:GREGORIAN
METHOD:PUBLISH
X-WR-CALNAME:kch-aktiv.de
X-ORIGINAL-URL:https://kch-aktiv.de
X-WR-CALDESC:Veranstaltungen für kch-aktiv.de
REFRESH-INTERVAL;VALUE=DURATION:PT1H
X-Robots-Tag:noindex
X-PUBLISHED-TTL:PT1H
BEGIN:VTIMEZONE
TZID:Europe/Berlin
BEGIN:DAYLIGHT
TZOFFSETFROM:+0100
TZOFFSETTO:+0200
TZNAME:CEST
DTSTART:20220327T010000
END:DAYLIGHT
BEGIN:STANDARD
TZOFFSETFROM:+0200
TZOFFSETTO:+0100
TZNAME:CET
DTSTART:20221030T010000
END:STANDARD
BEGIN:DAYLIGHT
TZOFFSETFROM:+0100
TZOFFSETTO:+0200
TZNAME:CEST
DTSTART:20230326T010000
END:DAYLIGHT
BEGIN:STANDARD
TZOFFSETFROM:+0200
TZOFFSETTO:+0100
TZNAME:CET
DTSTART:20231029T010000
END:STANDARD
BEGIN:DAYLIGHT
TZOFFSETFROM:+0100
TZOFFSETTO:+0200
TZNAME:CEST
DTSTART:20240331T010000
END:DAYLIGHT
BEGIN:STANDARD
TZOFFSETFROM:+0200
TZOFFSETTO:+0100
TZNAME:CET
DTSTART:20241027T010000
END:STANDARD
BEGIN:DAYLIGHT
TZOFFSETFROM:+0100
TZOFFSETTO:+0200
TZNAME:CEST
DTSTART:20250330T010000
END:DAYLIGHT
BEGIN:STANDARD
TZOFFSETFROM:+0200
TZOFFSETTO:+0100
TZNAME:CET
DTSTART:20251026T010000
END:STANDARD
BEGIN:DAYLIGHT
TZOFFSETFROM:+0100
TZOFFSETTO:+0200
TZNAME:CEST
DTSTART:20260329T010000
END:DAYLIGHT
BEGIN:STANDARD
TZOFFSETFROM:+0200
TZOFFSETTO:+0100
TZNAME:CET
DTSTART:20261025T010000
END:STANDARD
BEGIN:DAYLIGHT
TZOFFSETFROM:+0100
TZOFFSETTO:+0200
TZNAME:CEST
DTSTART:20270328T010000
END:DAYLIGHT
BEGIN:STANDARD
TZOFFSETFROM:+0200
TZOFFSETTO:+0100
TZNAME:CET
DTSTART:20271031T010000
END:STANDARD
END:VTIMEZONE
BEGIN:VEVENT
DTSTART;VALUE=DATE:20260418
DTEND;VALUE=DATE:20260419
DTSTAMP:20260421T111005
CREATED:20260411T160229Z
LAST-MODIFIED:20260411T160229Z
UID:1713-1776470400-1776556799@kch-aktiv.de
SUMMARY:KCH Female Finance goes INVEST🚀
DESCRIPTION:Im Rahmen unseres Female Finance Programms laden wir unsere weiblichen Mitglieder exklusiv zur INVEST Messe in Stuttgart ein\, zum Female Finance Day.\nFreut euch auf spannende Einblicke in die Finanzwelt\, inspirierende Speakerinnen und die Möglichkeit\, euch mit starken Persönlichkeiten aus der Branche zu vernetzen. \n📝 Anmeldung über folgenden Link: https://lnkd.in/eSjkeQFU möglich bis zum 12.04.2026\, 23:59 Uhr \nWir freuen uns auf euch!🙌🏼
URL:https://kch-aktiv.de/veranstaltung/kch-female-finance-goes-invest%f0%9f%9a%80/
LOCATION:Landesmesse Stuttgart\, Messepiazza 1\, Stuttgart\, 70629\, Germany
END:VEVENT
BEGIN:VEVENT
DTSTART;TZID=Europe/Berlin:20260416T170000
DTEND;TZID=Europe/Berlin:20260416T170000
DTSTAMP:20260421T111005
CREATED:20260304T215129Z
LAST-MODIFIED:20260411T155830Z
UID:1668-1776358800-1776358800@kch-aktiv.de
SUMMARY:LBBW - Semester Kick-Off
DESCRIPTION:Semester Kick-Off: Vorstellung des LBBW Treasury \nWir freuen uns sehr\, das erste Event dieses Semesters mit euch zu starten! 🚀 \nLerne in einem spannenden Vortrag das Treasury Team der LBBW kennen und erfahre\, wie sich Banken refinanzieren\, welchen Einfluss globale Ereignisse auf Finanzierungskosten haben und welche Rolle Banken selbst im Kapitalmarkt spielen. \nKeine Anmeldung erforderlich – einfach vorbeikommen! 🙌🏼 \nWir freuen uns\, viele neue Gesichter zu sehen! ✨
URL:https://kch-aktiv.de/veranstaltung/lbbw/
LOCATION:Uni Hohenheim
END:VEVENT
BEGIN:VEVENT
DTSTART;VALUE=DATE:20260414
DTEND;VALUE=DATE:20260415
DTSTAMP:20260421T111005
CREATED:20260411T155956Z
LAST-MODIFIED:20260411T155956Z
UID:1710-1776124800-1776211199@kch-aktiv.de
SUMMARY:🚀 KCH visits AKB Women in Business Speaker Day
DESCRIPTION:Du hast Lust auf ein inspirierendes Finance-Event mit spannenden Einblicken aus der Praxis? Dann komm mit uns nach Mannheim! \nUnter dem Motto “Empower Diversity\, Empower Success” erwarten dich:\n• Speeches & Panels – Spannende Einblicke von Expert:innen\n• Workshops – Mit Unternehmen aus Banking\, Finance & Consulting wie UBS\, Triton und Roland Berger\n• Networking – Connecte mit Studierenden & Professionals\n• Corporate Events – Lerne bei einem entspannten Brunch\, Dinner oder Winetasting die Corporates kennen\n• Food & Drinks – Für Verpflegung während des Events und der Afterparty ist gesorgt! \n👩‍💼 Female Finance Fokus – aber: alle sind willkommen! \n📝 Anmeldung über folgenden Link: https://lnkd.in/epzy62Br möglich bis zum 29.03.2026\, 23:59 Uhr
URL:https://kch-aktiv.de/veranstaltung/%f0%9f%9a%80-kch-visits-akb-women-in-business-speaker-day/
LOCATION:Uni Mannheim
END:VEVENT
BEGIN:VEVENT
DTSTART;TZID=Europe/Berlin:20260115T170000
DTEND;TZID=Europe/Berlin:20260115T210000
DTSTAMP:20260421T111005
CREATED:20260227T141515Z
LAST-MODIFIED:20260227T141515Z
UID:1663-1768496400-1768510800@kch-aktiv.de
SUMMARY:Ebner Stolz Management Consultants
DESCRIPTION:Unternehmensbewertung in der Krise – M&A-Prozess bei einem Automobilzulieferer
URL:https://kch-aktiv.de/veranstaltung/ebner-stolz-management-consultants/
LOCATION:RSM Ebner Stolz Office – Phönixbau Königstraße 5
END:VEVENT
BEGIN:VEVENT
DTSTART;TZID=Europe/Berlin:20251218T170000
DTEND;TZID=Europe/Berlin:20251218T200000
DTSTAMP:20260421T111005
CREATED:20260227T142544Z
LAST-MODIFIED:20260227T142544Z
UID:1673-1766077200-1766088000@kch-aktiv.de
SUMMARY:Allianz Investment Management
DESCRIPTION:Zwischen Rendite und Risiko: Ein Blick hinter die Kulissen eines 700 Mrd. Portfolios
URL:https://kch-aktiv.de/veranstaltung/allianz-investment-management/
LOCATION:HS 34
END:VEVENT
BEGIN:VEVENT
DTSTART;TZID=Europe/Berlin:20251205T190000
DTEND;TZID=Europe/Berlin:20251205T220000
DTSTAMP:20260421T111005
CREATED:20260227T142852Z
LAST-MODIFIED:20260227T142852Z
UID:1675-1764961200-1764972000@kch-aktiv.de
SUMMARY:Mitgliederversammlung & Weihnachtsfeier
DESCRIPTION:Neben der Wahl des neuen Vorstands erwartet euch ein festlicher Abend mit Köstlichkeiten\, guten Gesprächen und der Gelegenheit\, alte Freunde wiederzutreffen
URL:https://kch-aktiv.de/veranstaltung/mitgliederversammlung-weihnachtsfeier/
LOCATION:HS 36
END:VEVENT
BEGIN:VEVENT
DTSTART;TZID=Europe/Berlin:20241122T190000
DTEND;TZID=Europe/Berlin:20241122T220000
DTSTAMP:20260421T111005
CREATED:20240918T135012Z
LAST-MODIFIED:20240918T135012Z
UID:1427-1732302000-1732312800@kch-aktiv.de
SUMMARY:Mitgliederversammlung
DESCRIPTION:
URL:https://kch-aktiv.de/veranstaltung/mitgliederversammlung-4/
END:VEVENT
BEGIN:VEVENT
DTSTART;VALUE=DATE:20241121
DTEND;VALUE=DATE:20241122
DTSTAMP:20260421T111005
CREATED:20240918T134920Z
LAST-MODIFIED:20240918T134920Z
UID:1425-1732147200-1732233599@kch-aktiv.de
SUMMARY:WTS x KCH
DESCRIPTION:
URL:https://kch-aktiv.de/veranstaltung/wts-x-kch/
END:VEVENT
BEGIN:VEVENT
DTSTART;VALUE=DATE:20241112
DTEND;VALUE=DATE:20241113
DTSTAMP:20260421T111005
CREATED:20240918T134818Z
LAST-MODIFIED:20240918T134818Z
UID:1423-1731369600-1731455999@kch-aktiv.de
SUMMARY:UMushroom x KCH
DESCRIPTION:Es wird ein erstes gemeinsames Event mit UMushroom geben. \nDas Schweizer Startup wird uns eine Plattform bieten um gegeneinander in einem Wettbewerb anzutreten\, welches Team das beste Portfolio baut. \n 
URL:https://kch-aktiv.de/veranstaltung/umushroom-x-kch/
END:VEVENT
BEGIN:VEVENT
DTSTART;VALUE=DATE:20241105
DTEND;VALUE=DATE:20241106
DTSTAMP:20260421T111005
CREATED:20240918T134458Z
LAST-MODIFIED:20240927T185343Z
UID:1419-1730764800-1730851199@kch-aktiv.de
SUMMARY:Börsenführerschein Teil 2
DESCRIPTION:Es wird dieses Jahr wieder der Börsenführerschein veranstaltet. \nIhr habt die Möglichkeit einen ersten oder auch vertieften Einblick in die Welt der Finanzmärkte zu erhalten und ein Zertifikat zu erwerben.
URL:https://kch-aktiv.de/veranstaltung/boersenfuehrerschein-teil-2/
END:VEVENT
BEGIN:VEVENT
DTSTART;VALUE=DATE:20241030
DTEND;VALUE=DATE:20241031
DTSTAMP:20260421T111005
CREATED:20240918T134359Z
LAST-MODIFIED:20240918T134359Z
UID:1417-1730246400-1730332799@kch-aktiv.de
SUMMARY:Börsenführerschein Teil 1
DESCRIPTION:Es wird dieses Jahr wieder der Börsenführerschein veranstaltet. \nIhr habt die Möglichkeit einen ersten oder auch vertieften Einblick in die Welt der Finanzmärkte zu erhalten und ein Zertifikat zu erwerben.
URL:https://kch-aktiv.de/veranstaltung/boersenfuehrerschein-teil-1/
END:VEVENT
BEGIN:VEVENT
DTSTART;TZID=Europe/Berlin:20241023T170000
DTEND;TZID=Europe/Berlin:20241023T210000
DTSTAMP:20260421T111005
CREATED:20240918T134004Z
LAST-MODIFIED:20240918T134004Z
UID:1412-1729702800-1729717200@kch-aktiv.de
SUMMARY:Wintergerst x KCH
DESCRIPTION:Es wird ein erstes gemeinsames Event in Kooperation mit: WINTERGERST Societät für Unternehmer-Beratung GmbH & Co. KG geben. \nDie Veranstaltung wird in ihrem Stuttgarter Office stattfinden. \n 
URL:https://kch-aktiv.de/veranstaltung/wintergerst-x-kch/
LOCATION:Augustenstraße 1 70178 Stuttgart\, Augustenstraße 1\, Stuttgart\, 70178\, Germany
END:VEVENT
BEGIN:VEVENT
DTSTART;TZID=Europe/Berlin:20241022T173000
DTEND;TZID=Europe/Berlin:20241022T210000
DTSTAMP:20260421T111005
CREATED:20240918T133559Z
LAST-MODIFIED:20240918T134107Z
UID:1410-1729618200-1729630800@kch-aktiv.de
SUMMARY:BNP Paribas x KCH
DESCRIPTION:Unser erstes gemeinsames Event im neuen Semester! \nEs wird in einem Vortrag um: BNP Paribas – eine Bank unzählige Möglichkeiten geben. \nAnschließend wird es ein Get-together mit Pizza und Getränken geben
URL:https://kch-aktiv.de/veranstaltung/bnp-paribas/
LOCATION:Uni Hohenheim
END:VEVENT
BEGIN:VEVENT
DTSTART;TZID=Europe/Berlin:20231212T180000
DTEND;TZID=Europe/Berlin:20231212T210000
DTSTAMP:20260421T111005
CREATED:20230927T180050Z
LAST-MODIFIED:20230927T180050Z
UID:1213-1702404000-1702414800@kch-aktiv.de
SUMMARY:Deloitte Event
DESCRIPTION:Infos folgen…
URL:https://kch-aktiv.de/veranstaltung/deloitte-event/
END:VEVENT
BEGIN:VEVENT
DTSTART;TZID=Europe/Berlin:20231206T180000
DTEND;TZID=Europe/Berlin:20231206T210000
DTSTAMP:20260421T111005
CREATED:20230927T180011Z
LAST-MODIFIED:20230927T180011Z
UID:1211-1701885600-1701896400@kch-aktiv.de
SUMMARY:Ebner Stolz Event
DESCRIPTION:Infos folgen…
URL:https://kch-aktiv.de/veranstaltung/ebner-stolz-event/
END:VEVENT
BEGIN:VEVENT
DTSTART;TZID=Europe/Berlin:20231122T180000
DTEND;TZID=Europe/Berlin:20231122T210000
DTSTAMP:20260421T111005
CREATED:20230927T175909Z
LAST-MODIFIED:20230927T175909Z
UID:1209-1700676000-1700686800@kch-aktiv.de
SUMMARY:WTS Event
DESCRIPTION:Infos folgen…
URL:https://kch-aktiv.de/veranstaltung/wts-event/
END:VEVENT
BEGIN:VEVENT
DTSTART;TZID=Europe/Berlin:20231107T180000
DTEND;TZID=Europe/Berlin:20231107T210000
DTSTAMP:20260421T111005
CREATED:20230927T175840Z
LAST-MODIFIED:20230927T175840Z
UID:1207-1699380000-1699390800@kch-aktiv.de
SUMMARY:Oddo BHF Event
DESCRIPTION:Infos folgen…
URL:https://kch-aktiv.de/veranstaltung/oddo-bhf-event/
END:VEVENT
BEGIN:VEVENT
DTSTART;TZID=Europe/Berlin:20231026T180000
DTEND;TZID=Europe/Berlin:20231026T210000
DTSTAMP:20260421T111005
CREATED:20230927T175757Z
LAST-MODIFIED:20230927T175757Z
UID:1205-1698343200-1698354000@kch-aktiv.de
SUMMARY:Semesteropening mit Carlsquare
DESCRIPTION:Infos folgen…
URL:https://kch-aktiv.de/veranstaltung/semesteropening-mit-carlsquare/
END:VEVENT
BEGIN:VEVENT
DTSTART;TZID=Europe/Berlin:20230927T080000
DTEND;TZID=Europe/Berlin:20230927T170000
DTSTAMP:20260421T111005
CREATED:20230927T180308Z
LAST-MODIFIED:20230927T180308Z
UID:1215-1695801600-1695834000@kch-aktiv.de
SUMMARY:Mitgliederversammlung
DESCRIPTION:Infos folgen…
URL:https://kch-aktiv.de/veranstaltung/mitgliederversammlung-3/
END:VEVENT
BEGIN:VEVENT
DTSTART;TZID=Europe/Berlin:20230719T180000
DTEND;TZID=Europe/Berlin:20230719T193000
DTSTAMP:20260421T111005
CREATED:20230208T191221Z
LAST-MODIFIED:20230208T191221Z
UID:1180-1689789600-1689795000@kch-aktiv.de
SUMMARY:Arbeitskreis
DESCRIPTION:Infos folgen.
URL:https://kch-aktiv.de/veranstaltung/arbeitskreis-13/
END:VEVENT
BEGIN:VEVENT
DTSTART;TZID=Europe/Berlin:20230712T180000
DTEND;TZID=Europe/Berlin:20230712T210000
DTSTAMP:20260421T111005
CREATED:20230208T191158Z
LAST-MODIFIED:20230208T191158Z
UID:1178-1689184800-1689195600@kch-aktiv.de
SUMMARY:Event: Ebner Stolz - Case Study
DESCRIPTION:Infos folgen.
URL:https://kch-aktiv.de/veranstaltung/event-ebner-stolz-case-study/
END:VEVENT
BEGIN:VEVENT
DTSTART;TZID=Europe/Berlin:20230707T080000
DTEND;TZID=Europe/Berlin:20230707T170000
DTSTAMP:20260421T111005
CREATED:20230208T191245Z
LAST-MODIFIED:20230208T191245Z
UID:1182-1688716800-1688749200@kch-aktiv.de
SUMMARY:Dies Academicus
DESCRIPTION:Infos folgen.
URL:https://kch-aktiv.de/veranstaltung/dies-academicus-3/
END:VEVENT
BEGIN:VEVENT
DTSTART;TZID=Europe/Berlin:20230705T180000
DTEND;TZID=Europe/Berlin:20230705T193000
DTSTAMP:20260421T111005
CREATED:20230208T191116Z
LAST-MODIFIED:20230208T191116Z
UID:1176-1688580000-1688585400@kch-aktiv.de
SUMMARY:Arbeitskreis
DESCRIPTION:Infos folgen.
URL:https://kch-aktiv.de/veranstaltung/arbeitskreis-12/
END:VEVENT
BEGIN:VEVENT
DTSTART;TZID=Europe/Berlin:20230621T180000
DTEND;TZID=Europe/Berlin:20230621T193000
DTSTAMP:20260421T111005
CREATED:20230208T191044Z
LAST-MODIFIED:20230208T191044Z
UID:1174-1687370400-1687375800@kch-aktiv.de
SUMMARY:Arbeitskreis
DESCRIPTION:Infos folgen.
URL:https://kch-aktiv.de/veranstaltung/arbeitskreis-11/
END:VEVENT
BEGIN:VEVENT
DTSTART;TZID=Europe/Berlin:20230614T180000
DTEND;TZID=Europe/Berlin:20230614T210000
DTSTAMP:20260421T111005
CREATED:20230208T191018Z
LAST-MODIFIED:20230208T191018Z
UID:1172-1686765600-1686776400@kch-aktiv.de
SUMMARY:Event: EY - Sustainable Finance
DESCRIPTION:Infos folgen.
URL:https://kch-aktiv.de/veranstaltung/event-ey-sustainable-finance/
END:VEVENT
BEGIN:VEVENT
DTSTART;TZID=Europe/Berlin:20230607T180000
DTEND;TZID=Europe/Berlin:20230607T193000
DTSTAMP:20260421T111005
CREATED:20230208T190940Z
LAST-MODIFIED:20230208T190940Z
UID:1170-1686160800-1686166200@kch-aktiv.de
SUMMARY:Arbeitskreis
DESCRIPTION:Infos folgen.
URL:https://kch-aktiv.de/veranstaltung/arbeitskreis-10/
END:VEVENT
BEGIN:VEVENT
DTSTART;TZID=Europe/Berlin:20230510T180000
DTEND;TZID=Europe/Berlin:20230510T193000
DTSTAMP:20260421T111005
CREATED:20230208T190805Z
LAST-MODIFIED:20230208T190805Z
UID:1166-1683741600-1683747000@kch-aktiv.de
SUMMARY:Arbeitskreis
DESCRIPTION:Infos folgen.
URL:https://kch-aktiv.de/veranstaltung/arbeitskreis-8/
END:VEVENT
BEGIN:VEVENT
DTSTART;TZID=Europe/Berlin:20230503T180000
DTEND;TZID=Europe/Berlin:20230503T210000
DTSTAMP:20260421T111005
CREATED:20230208T190738Z
LAST-MODIFIED:20230208T190738Z
UID:1164-1683136800-1683147600@kch-aktiv.de
SUMMARY:Event: WTS M&A
DESCRIPTION:Infos folgen.
URL:https://kch-aktiv.de/veranstaltung/event-wts-ma/
END:VEVENT
BEGIN:VEVENT
DTSTART;TZID=Europe/Berlin:20230426T180000
DTEND;TZID=Europe/Berlin:20230426T193000
DTSTAMP:20260421T111005
CREATED:20230208T190623Z
LAST-MODIFIED:20230208T190623Z
UID:1162-1682532000-1682537400@kch-aktiv.de
SUMMARY:Arbeitskreis
DESCRIPTION:Infos folgen.
URL:https://kch-aktiv.de/veranstaltung/arbeitskreis-7/
END:VEVENT
BEGIN:VEVENT
DTSTART;TZID=Europe/Berlin:20230412T180000
DTEND;TZID=Europe/Berlin:20230412T193000
DTSTAMP:20260421T111005
CREATED:20230208T190405Z
LAST-MODIFIED:20230208T190449Z
UID:1158-1681322400-1681327800@kch-aktiv.de
SUMMARY:Arbeitskreis Kick-Off Sommersemester
DESCRIPTION:Infos folgen.
URL:https://kch-aktiv.de/veranstaltung/arbeitskreis-kick-off-sommersemester/
END:VEVENT
END:VCALENDAR