BEGIN:VCALENDAR
VERSION:2.0
PRODID:-//kch-aktiv.de - ECPv6.15.20//NONSGML v1.0//EN
CALSCALE:GREGORIAN
METHOD:PUBLISH
X-ORIGINAL-URL:https://kch-aktiv.de
X-WR-CALDESC:Veranstaltungen für kch-aktiv.de
REFRESH-INTERVAL;VALUE=DURATION:PT1H
X-Robots-Tag:noindex
X-PUBLISHED-TTL:PT1H
BEGIN:VTIMEZONE
TZID:Europe/Berlin
BEGIN:DAYLIGHT
TZOFFSETFROM:+0100
TZOFFSETTO:+0200
TZNAME:CEST
DTSTART:20220327T010000
END:DAYLIGHT
BEGIN:STANDARD
TZOFFSETFROM:+0200
TZOFFSETTO:+0100
TZNAME:CET
DTSTART:20221030T010000
END:STANDARD
BEGIN:DAYLIGHT
TZOFFSETFROM:+0100
TZOFFSETTO:+0200
TZNAME:CEST
DTSTART:20230326T010000
END:DAYLIGHT
BEGIN:STANDARD
TZOFFSETFROM:+0200
TZOFFSETTO:+0100
TZNAME:CET
DTSTART:20231029T010000
END:STANDARD
BEGIN:DAYLIGHT
TZOFFSETFROM:+0100
TZOFFSETTO:+0200
TZNAME:CEST
DTSTART:20240331T010000
END:DAYLIGHT
BEGIN:STANDARD
TZOFFSETFROM:+0200
TZOFFSETTO:+0100
TZNAME:CET
DTSTART:20241027T010000
END:STANDARD
END:VTIMEZONE
BEGIN:VEVENT
DTSTART;TZID=Europe/Berlin:20230318T100000
DTEND;TZID=Europe/Berlin:20230318T170000
DTSTAMP:20260425T233025
CREATED:20230208T190305Z
LAST-MODIFIED:20230219T140456Z
UID:1154-1679133600-1679158800@kch-aktiv.de
SUMMARY:Besuch der Invest-Messe in Stuttgart
DESCRIPTION:Hallo zusammen!      \nam Samstag\, den 18. März gehen wir gemeinsam auf die Invest Messe in Stuttgart! 📈  \n    \nAlle KCH-Mitglieder bekommen kostenlos ein Ticket\, dafür müsst ihr nur folgendes Formular ausfüllen:    \nhttps://docs.google.com/forms/d/e/1FAIpQLScU8NZDUeul5GaSU_aCVUqJXUeU1RbpXQKqPY8KhFGs_u0g9g/viewform?usp=sf_link     \n  \nNach dem Messebesuch gibt es noch ein Abendprogramm – weitere Infos dazu folgen. 🍻     \nBis dann! 😊  
URL:https://kch-aktiv.de/veranstaltung/besuch-der-invest-messe-in-stuttgart/
END:VEVENT
END:VCALENDAR